BEGIN:VCALENDAR
VERSION:2.0
PRODID:-//85.215.231.133//NONSGML kigkonsult.se iCalcreator 2.20//
CALSCALE:GREGORIAN
METHOD:PUBLISH
X-WR-TIMEZONE:Europe/Berlin
BEGIN:VEVENT
UID:event84@SV Fortuna ´50 Neubrandenburg
DTSTAMP:20260425T175133Z
CATEGORIES:Punktspiele
DESCRIPTION:Das Handball-Event im Jahnsportforum präsentiert von neuwoges.i
 mg\nKategorie: Punktspiele\nICS-Link: https://fortuna50.de/index.php?optio
 n=com_jem&view=event&id=84:das-handball-event-im-jahnsportforum-praesentie
 rt-von-neuwoges-img\n
DTSTART;TZID=Europe/Berlin:20181110T140000
DTEND;TZID=Europe/Berlin:20181110T200000
LOCATION:Jahnsportforum\,Parkstraße 1\,17033 Neubrandenburg
SUMMARY:Das Handball-Event im Jahnsportforum präsentiert von neuwoges.img
URL:https://fortuna50.de/index.php?option=com_jem&view=event&id=84:das-hand
 ball-event-im-jahnsportforum-praesentiert-von-neuwoges-img
END:VEVENT
END:VCALENDAR
