BEGIN:VCALENDAR
VERSION:2.0
PRODID:-//85.215.231.133//NONSGML kigkonsult.se iCalcreator 2.20//
CALSCALE:GREGORIAN
METHOD:PUBLISH
X-WR-TIMEZONE:Europe/Berlin
BEGIN:VEVENT
UID:event394@SV Fortuna ´50 Neubrandenburg
DTSTAMP:20260425T191915Z
CATEGORIES:Punktspiele
DESCRIPTION:Heimspiel 1. Männer\nKategorie: Punktspiele\nICS-Link: https://
 fortuna50.de/index.php?option=com_jem&view=event&id=394:heimspiel-1-maenne
 r\n
DTSTART;TZID=Europe/Berlin:20260425T190000
DTEND;TZID=Europe/Berlin:20260425T203000
LOCATION:Webasto Arena\,Binsenwerderstr. 2\,17033 Neubrandenburg\,Germany
SUMMARY:Heimspiel 1. Männer
URL:https://fortuna50.de/index.php?option=com_jem&view=event&id=394:heimspi
 el-1-maenner
END:VEVENT
BEGIN:VEVENT
UID:event405@SV Fortuna ´50 Neubrandenburg
DTSTAMP:20260425T191915Z
CATEGORIES:Punktspiele
DESCRIPTION:Heimspiel 1. Frauen - Qualifikationsrunde zur 3. Liga\nKategori
 e: Punktspiele\nICS-Link: https://fortuna50.de/index.php?option=com_jem&vi
 ew=event&id=405:heimspiel-1-frauen-qualifikationsrunde-zur-3-liga\n
DTSTART;TZID=Europe/Berlin:20260502T163000
DTEND;TZID=Europe/Berlin:20260502T180000
LOCATION:Webasto Arena\,Binsenwerderstr. 2\,17033 Neubrandenburg\,Germany
SUMMARY:Heimspiel 1. Frauen - Qualifikationsrunde zur 3. Liga
URL:https://fortuna50.de/index.php?option=com_jem&view=event&id=405:heimspi
 el-1-frauen-qualifikationsrunde-zur-3-liga
END:VEVENT
BEGIN:VEVENT
UID:event407@SV Fortuna ´50 Neubrandenburg
DTSTAMP:20260425T191915Z
CATEGORIES:Punktspiele
DESCRIPTION:Auswärtsspiel 1. Frauen - Qualifikationsrunde zur 3. Liga\nKate
 gorie: Punktspiele\nICS-Link: https://fortuna50.de/index.php?option=com_je
 m&view=event&id=407:auswaertsspiel-1-frauen-qualifikationsrunde-zur-3-liga
 \n
DTSTART;TZID=Europe/Berlin:20260509T161500
DTEND;TZID=Europe/Berlin:20260509T180000
LOCATION:Werner Kuhrt Halle\,Knackenburg 1\,24806 Hohn\,Germany
SUMMARY:Auswärtsspiel 1. Frauen - Qualifikationsrunde zur 3. Liga
URL:https://fortuna50.de/index.php?option=com_jem&view=event&id=407:auswaer
 tsspiel-1-frauen-qualifikationsrunde-zur-3-liga
END:VEVENT
BEGIN:VEVENT
UID:event408@SV Fortuna ´50 Neubrandenburg
DTSTAMP:20260425T191915Z
CATEGORIES:Punktspiele
DESCRIPTION:Auswärtsspiel 1. Frauen - Qualifikationsrunde zur 3. Liga\nKate
 gorie: Punktspiele\nICS-Link: https://fortuna50.de/index.php?option=com_je
 m&view=event&id=408:auswaertsspiel-1-frauen-qualifikationsrunde-zur-3-liga
 \n
DTSTART;TZID=Europe/Berlin:20260530T191500
DTEND;TZID=Europe/Berlin:20260530T210000
LOCATION:SH Hermann-Billung-Gymnasium\,Hermann-Billung-Straße 1\,29225 Cell
 e\,Germany
SUMMARY:Auswärtsspiel 1. Frauen - Qualifikationsrunde zur 3. Liga
URL:https://fortuna50.de/index.php?option=com_jem&view=event&id=408:auswaer
 tsspiel-1-frauen-qualifikationsrunde-zur-3-liga
END:VEVENT
BEGIN:VEVENT
UID:event406@SV Fortuna ´50 Neubrandenburg
DTSTAMP:20260425T191915Z
CATEGORIES:Punktspiele
DESCRIPTION:Heimspiel 1. Frauen - Qualifikationsrunde zur 3. Liga\nKategori
 e: Punktspiele\nICS-Link: https://fortuna50.de/index.php?option=com_jem&vi
 ew=event&id=406:heimspiel-1-frauen-qualifikationsrunde-zur-3-liga\n
DTSTART;TZID=Europe/Berlin:20260606T163000
DTEND;TZID=Europe/Berlin:20260606T180000
LOCATION:Webasto Arena\,Binsenwerderstr. 2\,17033 Neubrandenburg\,Germany
SUMMARY:Heimspiel 1. Frauen - Qualifikationsrunde zur 3. Liga
URL:https://fortuna50.de/index.php?option=com_jem&view=event&id=406:heimspi
 el-1-frauen-qualifikationsrunde-zur-3-liga
END:VEVENT
END:VCALENDAR
