BEGIN:VCALENDAR
VERSION:2.0
PRODID:-//85.215.231.133//NONSGML kigkonsult.se iCalcreator 2.20//
CALSCALE:GREGORIAN
METHOD:PUBLISH
X-WR-TIMEZONE:Europe/Berlin
BEGIN:VEVENT
UID:event396@SV Fortuna ´50 Neubrandenburg
DTSTAMP:20260421T081805Z
CATEGORIES:Punktspiele
DESCRIPTION:Heimspiel weibliche A-Jugend in Rostock\nKategorie: Punktspiele
 \nICS-Link: https://fortuna50.de/index.php?option=com_jem&view=event&id=39
 6:heimspiel-weibliche-a-jugend-in-rostock\n
DTSTART;TZID=Europe/Berlin:20251004T153000
DTEND;TZID=Europe/Berlin:20251004T170000
LOCATION:Fiete Reder Sporthalle Rostock\,Marieneher Str. 4\,18069 Rostock
SUMMARY:Heimspiel weibliche A-Jugend in Rostock
URL:https://fortuna50.de/index.php?option=com_jem&view=event&id=396:heimspi
 el-weibliche-a-jugend-in-rostock
END:VEVENT
END:VCALENDAR
